BEGIN:VCALENDAR
VERSION:2.0
PRODID:-//Ingham County Bar Association - ECPv6.15.17.1//NONSGML v1.0//EN
CALSCALE:GREGORIAN
METHOD:PUBLISH
X-WR-CALNAME:Ingham County Bar Association
X-ORIGINAL-URL:https://www.inghambar.org
X-WR-CALDESC:Events for Ingham County Bar Association
REFRESH-INTERVAL;VALUE=DURATION:PT1H
X-Robots-Tag:noindex
X-PUBLISHED-TTL:PT1H
BEGIN:VTIMEZONE
TZID:America/Detroit
BEGIN:DAYLIGHT
TZOFFSETFROM:-0500
TZOFFSETTO:-0400
TZNAME:EDT
DTSTART:20250309T070000
END:DAYLIGHT
BEGIN:STANDARD
TZOFFSETFROM:-0400
TZOFFSETTO:-0500
TZNAME:EST
DTSTART:20251102T060000
END:STANDARD
BEGIN:DAYLIGHT
TZOFFSETFROM:-0500
TZOFFSETTO:-0400
TZNAME:EDT
DTSTART:20260308T070000
END:DAYLIGHT
BEGIN:STANDARD
TZOFFSETFROM:-0400
TZOFFSETTO:-0500
TZNAME:EST
DTSTART:20261101T060000
END:STANDARD
BEGIN:DAYLIGHT
TZOFFSETFROM:-0500
TZOFFSETTO:-0400
TZNAME:EDT
DTSTART:20270314T070000
END:DAYLIGHT
BEGIN:STANDARD
TZOFFSETFROM:-0400
TZOFFSETTO:-0500
TZNAME:EST
DTSTART:20271107T060000
END:STANDARD
END:VTIMEZONE
BEGIN:VEVENT
DTSTART;TZID=America/Detroit:20260305T173000
DTEND;TZID=America/Detroit:20260305T173000
DTSTAMP:20260423T044443
CREATED:20260225T150310Z
LAST-MODIFIED:20260225T150415Z
UID:134764-1772731800-1772731800@www.inghambar.org
SUMMARY:Legal Writing Seminar (YLS)
DESCRIPTION:Join us for the Legal Writing Seminar hosted by the ICBA Young Lawyers Section. This seminar will be taught by Professor Mark Cooney. The event is generously hosted by Foster Swift and is open to all attorneys and members of the Ingham County Bar Association. Food will be provided and the seminar will count towards CLE credit.\n\nRSVP by: March 3\, 2026.\n\nRSVP to: Jordan Ahlers-Smith at JAhlers@SpeakerLaw.com 
URL:https://www.inghambar.org/event/legal-writing-seminar-yls/
LOCATION:Foster Swift Collins & Smith\, 313 S. Washington Square\, Lansing\, MI\, 48933\, United States
END:VEVENT
END:VCALENDAR