BEGIN:VCALENDAR
VERSION:2.0
PRODID:-//Ingham County Bar Association - ECPv6.15.17.1//NONSGML v1.0//EN
CALSCALE:GREGORIAN
METHOD:PUBLISH
X-WR-CALNAME:Ingham County Bar Association
X-ORIGINAL-URL:https://www.inghambar.org
X-WR-CALDESC:Events for Ingham County Bar Association
REFRESH-INTERVAL;VALUE=DURATION:PT1H
X-Robots-Tag:noindex
X-PUBLISHED-TTL:PT1H
BEGIN:VTIMEZONE
TZID:America/Detroit
BEGIN:DAYLIGHT
TZOFFSETFROM:-0500
TZOFFSETTO:-0400
TZNAME:EDT
DTSTART:20250309T070000
END:DAYLIGHT
BEGIN:STANDARD
TZOFFSETFROM:-0400
TZOFFSETTO:-0500
TZNAME:EST
DTSTART:20251102T060000
END:STANDARD
BEGIN:DAYLIGHT
TZOFFSETFROM:-0500
TZOFFSETTO:-0400
TZNAME:EDT
DTSTART:20260308T070000
END:DAYLIGHT
BEGIN:STANDARD
TZOFFSETFROM:-0400
TZOFFSETTO:-0500
TZNAME:EST
DTSTART:20261101T060000
END:STANDARD
BEGIN:DAYLIGHT
TZOFFSETFROM:-0500
TZOFFSETTO:-0400
TZNAME:EDT
DTSTART:20270314T070000
END:DAYLIGHT
BEGIN:STANDARD
TZOFFSETFROM:-0400
TZOFFSETTO:-0500
TZNAME:EST
DTSTART:20271107T060000
END:STANDARD
END:VTIMEZONE
BEGIN:VEVENT
DTSTART;TZID=America/Detroit:20260520T170000
DTEND;TZID=America/Detroit:20260520T210000
DTSTAMP:20260421T042322
CREATED:20251229T172250Z
LAST-MODIFIED:20260323T135235Z
UID:134622-1779296400-1779310800@www.inghambar.org
SUMMARY:Annual Meeting & Shrimp Dinner
DESCRIPTION: \n\n\n\n\nCome join your colleagues at this annual event where you will receive a fabulous meal cooked and served by local lawyers and judges.\n\n\n\n  \nVFW Post 701\, 123 North Rosemary Street\, Lansing\, MI 48917 \n  \nEvent: 5:00 – 8:00 p.m.Dinner Served at 6:00 p.m. \n  \nWe are always happy to have volunteers for this event! Please email ICBA if you are interested in helping.
URL:https://www.inghambar.org/event/annual-shrimp-dinner/
LOCATION:VFW Post 701\, 123 North Rosemary Street\, Lansing\, MI\, 48917\, United States
ATTACH;FMTTYPE=image/jpeg:https://www.inghambar.org/wp-content/uploads/2025/12/Website-Event-Covers-2.jpg
END:VEVENT
END:VCALENDAR