BEGIN:VCALENDAR
VERSION:2.0
PRODID:-//Ingham County Bar Association - ECPv6.15.17.1//NONSGML v1.0//EN
CALSCALE:GREGORIAN
METHOD:PUBLISH
X-WR-CALNAME:Ingham County Bar Association
X-ORIGINAL-URL:https://www.inghambar.org
X-WR-CALDESC:Events for Ingham County Bar Association
REFRESH-INTERVAL;VALUE=DURATION:PT1H
X-Robots-Tag:noindex
X-PUBLISHED-TTL:PT1H
BEGIN:VTIMEZONE
TZID:America/Detroit
BEGIN:DAYLIGHT
TZOFFSETFROM:-0500
TZOFFSETTO:-0400
TZNAME:EDT
DTSTART:20250309T070000
END:DAYLIGHT
BEGIN:STANDARD
TZOFFSETFROM:-0400
TZOFFSETTO:-0500
TZNAME:EST
DTSTART:20251102T060000
END:STANDARD
BEGIN:DAYLIGHT
TZOFFSETFROM:-0500
TZOFFSETTO:-0400
TZNAME:EDT
DTSTART:20260308T070000
END:DAYLIGHT
BEGIN:STANDARD
TZOFFSETFROM:-0400
TZOFFSETTO:-0500
TZNAME:EST
DTSTART:20261101T060000
END:STANDARD
BEGIN:DAYLIGHT
TZOFFSETFROM:-0500
TZOFFSETTO:-0400
TZNAME:EDT
DTSTART:20270314T070000
END:DAYLIGHT
BEGIN:STANDARD
TZOFFSETFROM:-0400
TZOFFSETTO:-0500
TZNAME:EST
DTSTART:20271107T060000
END:STANDARD
BEGIN:DAYLIGHT
TZOFFSETFROM:-0500
TZOFFSETTO:-0400
TZNAME:EDT
DTSTART:20280312T070000
END:DAYLIGHT
BEGIN:STANDARD
TZOFFSETFROM:-0400
TZOFFSETTO:-0500
TZNAME:EST
DTSTART:20281105T060000
END:STANDARD
END:VTIMEZONE
BEGIN:VEVENT
DTSTART;TZID=America/Detroit:20261117T180000
DTEND;TZID=America/Detroit:20261117T200000
DTSTAMP:20260423T063315
CREATED:20260401T140933Z
LAST-MODIFIED:20260401T140933Z
UID:135032-1794938400-1794945600@www.inghambar.org
SUMMARY:132nd Annual Dinner
DESCRIPTION:The ICBA Annual Dinner offers members an opportunity to gather and socialize\, as well as honor some of the community’s finest professionals. This event will be hosted on Thursday\, November 17\, 2026. Reception: 6:00 PM – Dinner: 6:30 PM – Program: 7:00 PM. Awards will be presented during the program. Registration coming soon. 
URL:https://www.inghambar.org/event/132nd-annual-dinner/
LOCATION:Crowne Plaza\, 925 S Creyts Rd\, Lansing\, MI\, 48917\, United States
ATTACH;FMTTYPE=image/jpeg:https://www.inghambar.org/wp-content/uploads/2026/04/Website-Event-Covers-6.jpg
END:VEVENT
BEGIN:VEVENT
DTSTART;TZID=America/Detroit:20270114T053000
DTEND;TZID=America/Detroit:20270114T193000
DTSTAMP:20260423T063315
CREATED:20260323T133025Z
LAST-MODIFIED:20260328T173003Z
UID:134977-1799904600-1799955000@www.inghambar.org
SUMMARY:2027 Meet the Judges
DESCRIPTION:Register Now: Registration.\n\nJoin the Ingham County Bar Association for one of their signature events and a night full of networking with respected judges at the 16th Annual Meet the Judges. This annual event will be hosted on Thursday\, January 14\, 2027 from 5:30 PM to 7:30 PM at the University Club of MSU (3435 Forest Rd\, Lansing\, MI 48910).\n\nHors d’oeuvres will be served\, and a bar with two beverage tickets will be provided.\n\n \n\n \n\n 
URL:https://www.inghambar.org/event/2027-meet-the-judges/
LOCATION:University Club of MSU\, 3435 Forest Road\, Lansing\, MI\, 48910\, United States
ATTACH;FMTTYPE=image/jpeg:https://www.inghambar.org/wp-content/uploads/2026/03/Website-Event-Covers-4.jpg
END:VEVENT
END:VCALENDAR