BEGIN:VCALENDAR
VERSION:2.0
PRODID:-//Ingham County Bar Association - ECPv6.15.17.1//NONSGML v1.0//EN
CALSCALE:GREGORIAN
METHOD:PUBLISH
X-WR-CALNAME:Ingham County Bar Association
X-ORIGINAL-URL:https://www.inghambar.org
X-WR-CALDESC:Events for Ingham County Bar Association
REFRESH-INTERVAL;VALUE=DURATION:PT1H
X-Robots-Tag:noindex
X-PUBLISHED-TTL:PT1H
BEGIN:VTIMEZONE
TZID:America/Detroit
BEGIN:DAYLIGHT
TZOFFSETFROM:-0500
TZOFFSETTO:-0400
TZNAME:EDT
DTSTART:20240310T070000
END:DAYLIGHT
BEGIN:STANDARD
TZOFFSETFROM:-0400
TZOFFSETTO:-0500
TZNAME:EST
DTSTART:20241103T060000
END:STANDARD
BEGIN:DAYLIGHT
TZOFFSETFROM:-0500
TZOFFSETTO:-0400
TZNAME:EDT
DTSTART:20250309T070000
END:DAYLIGHT
BEGIN:STANDARD
TZOFFSETFROM:-0400
TZOFFSETTO:-0500
TZNAME:EST
DTSTART:20251102T060000
END:STANDARD
BEGIN:DAYLIGHT
TZOFFSETFROM:-0500
TZOFFSETTO:-0400
TZNAME:EDT
DTSTART:20260308T070000
END:DAYLIGHT
BEGIN:STANDARD
TZOFFSETFROM:-0400
TZOFFSETTO:-0500
TZNAME:EST
DTSTART:20261101T060000
END:STANDARD
END:VTIMEZONE
BEGIN:VEVENT
DTSTART;TZID=America/Detroit:20251112T180000
DTEND;TZID=America/Detroit:20251112T180000
DTSTAMP:20260423T044554
CREATED:20250527T153449Z
LAST-MODIFIED:20250527T153449Z
UID:134263-1762970400-1762970400@www.inghambar.org
SUMMARY:131st Annual Dinner
DESCRIPTION:
URL:https://www.inghambar.org/event/131st-annual-dinner/
LOCATION:Crowne Plaza\, 925 S Creyts Rd\, Lansing\, MI\, 48917\, United States
END:VEVENT
END:VCALENDAR